BEGIN:VCALENDAR
VERSION:2.0
PRODID:-//wp-events-plugin.com//7.2.3.1//EN
TZID:America/Sao_Paulo
X-WR-TIMEZONE:America/Sao_Paulo
BEGIN:VEVENT
UID:20@serrapark.com.br
DTSTART;TZID=America/Sao_Paulo:20260827T090000
DTEND;TZID=America/Sao_Paulo:20260828T210000
DTSTAMP:20260316T121550Z
URL:https://serrapark.com.br/events/linkisp-2026/
SUMMARY:LINKISP 2026
DESCRIPTION:SERÃO DOIS DIAS REPLESTOS DE ATRAÇÕES NACIONAIS\, PALESTRAS 
 SOBRE GESTÃO\, TECNOLOGIA E INOVAÇÃO.\n\nUM ESPAÇO DE 2.400 METROS QUA
 DRADOS COM GRANDES MARCAS\, UMA ARENA CENTRAL IMPONENTE E HOT ZONES ESTRAT
 EGICAMENTE DISTRIBUÍDAS  PARA OFERECER CONFORTO E IMERSÃO.
END:VEVENT
BEGIN:VTIMEZONE
TZID:America/Sao_Paulo
X-LIC-LOCATION:America/Sao_Paulo
BEGIN:STANDARD
DTSTART:20250827T090000
TZOFFSETFROM:-0300
TZOFFSETTO:-0300
TZNAME:-03
END:STANDARD
END:VTIMEZONE
END:VCALENDAR