BEGIN:VCALENDAR
VERSION:2.0
PRODID:-//wp-events-plugin.com//7.2.3.1//EN
TZID:America/Sao_Paulo
X-WR-TIMEZONE:America/Sao_Paulo
BEGIN:VEVENT
UID:18@serrapark.com.br
DTSTART;TZID=America/Sao_Paulo:20260505T093000
DTEND;TZID=America/Sao_Paulo:20260508T210000
DTSTAMP:20260316T120921Z
URL:https://serrapark.com.br/events/gramado-summit/
SUMMARY:GRAMADO SUMMIT
DESCRIPTION:MAKE it HUMAN\n\nO maior brainstorming da América Latina.\n\n0
 6 a 08 de Maio I Gramado\, RS\n\no ponto de encontro de quem entende que i
 novação só tem valor quando devolve sentido às pessoas.\nO futuro come
 ça\nquando voltamos a enxergar o essencial:\no humano.\nO mundo corre par
 a acelerar o digital. Mas sempre que deixamos os algoritmos ditarem o ritm
 o\, esquecemos de perguntar quem está realmente no comando.\n\nA Gramado 
 Summit nasce desse ponto de inflexão. São três dias em que Gramado se 
 transforma em um espaço de encontro para quem entende que inovação só 
 tem valor quando devolve sentido às pessoas.\nAqui\, empreendedores compa
 rtilham histórias que mudaram suas trajetórias. Startups medem sua forç
 a diante de investidores que não se contentam apenas com promessas. Empre
 sas repensam estratégias ao ouvir quem enxerga além das tendências efê
 meras.\n\nNão é o número de palcos\, nem o tamanho da plateia que disti
 ngue este evento\, é a capacidade de gerar clareza em meio ao ruído.\n
 \n
END:VEVENT
BEGIN:VTIMEZONE
TZID:America/Sao_Paulo
X-LIC-LOCATION:America/Sao_Paulo
BEGIN:STANDARD
DTSTART:20250505T093000
TZOFFSETFROM:-0300
TZOFFSETTO:-0300
TZNAME:-03
END:STANDARD
END:VTIMEZONE
END:VCALENDAR