BEGIN:VCALENDAR
VERSION:2.0
PRODID:-//wp-events-plugin.com//7.2.3.1//EN
TZID:America/Sao_Paulo
X-WR-TIMEZONE:America/Sao_Paulo
BEGIN:VEVENT
UID:19@serrapark.com.br
DTSTART;TZID=America/Sao_Paulo:20260615T100000
DTEND;TZID=America/Sao_Paulo:20260618T200000
DTSTAMP:20260316T121048Z
URL:https://serrapark.com.br/events/11o-salao-gramado/
SUMMARY:11º SALÃO GRAMADO
DESCRIPTION:\n\n\n\n\n\n+5.000 VISITANTES\n\n\n\n\n\n4 dias de feira\n\n\n
 \n\n\nO Salão de Gramado é um Evento que une lançamentos\, tendência
 s e novidades ao Mercado moveleiro e de decorações.\n\nTrazendo conteúd
 o relevante para seu público e imprensa especializada garante a todos os 
 visitantes uma feira de negócios com destaque no mercado brasileiro.\n\n
 Faça parte da Edição #11 que ocorre de 15 a 18 de junho de 2026\, no Ce
 ntro de Eventos Serra Park\, em Gramado\, RS.\n\n\n
END:VEVENT
BEGIN:VTIMEZONE
TZID:America/Sao_Paulo
X-LIC-LOCATION:America/Sao_Paulo
BEGIN:STANDARD
DTSTART:20250615T100000
TZOFFSETFROM:-0300
TZOFFSETTO:-0300
TZNAME:-03
END:STANDARD
END:VTIMEZONE
END:VCALENDAR